BEGIN:VCALENDAR
VERSION:2.0
PRODID:-//MCD - ECPv6.15.20//NONSGML v1.0//EN
CALSCALE:GREGORIAN
METHOD:PUBLISH
X-WR-CALNAME:MCD
X-ORIGINAL-URL:https://sfmcd.org
X-WR-CALDESC:Events for MCD
REFRESH-INTERVAL;VALUE=DURATION:PT1H
X-Robots-Tag:noindex
X-PUBLISHED-TTL:PT1H
BEGIN:VTIMEZONE
TZID:America/Los_Angeles
BEGIN:DAYLIGHT
TZOFFSETFROM:-0800
TZOFFSETTO:-0700
TZNAME:PDT
DTSTART:20240310T100000
END:DAYLIGHT
BEGIN:STANDARD
TZOFFSETFROM:-0700
TZOFFSETTO:-0800
TZNAME:PST
DTSTART:20241103T090000
END:STANDARD
BEGIN:DAYLIGHT
TZOFFSETFROM:-0800
TZOFFSETTO:-0700
TZNAME:PDT
DTSTART:20250309T100000
END:DAYLIGHT
BEGIN:STANDARD
TZOFFSETFROM:-0700
TZOFFSETTO:-0800
TZNAME:PST
DTSTART:20251102T090000
END:STANDARD
BEGIN:DAYLIGHT
TZOFFSETFROM:-0800
TZOFFSETTO:-0700
TZNAME:PDT
DTSTART:20260308T100000
END:DAYLIGHT
BEGIN:STANDARD
TZOFFSETFROM:-0700
TZOFFSETTO:-0800
TZNAME:PST
DTSTART:20261101T090000
END:STANDARD
END:VTIMEZONE
BEGIN:VEVENT
DTSTART;TZID=America/Los_Angeles:20250502T150000
DTEND;TZID=America/Los_Angeles:20250502T170000
DTSTAMP:20260421T024541
CREATED:20250416T205007Z
LAST-MODIFIED:20250416T205007Z
UID:33858-1746198000-1746205200@sfmcd.org
SUMMARY:Library MakeArt – Potrero Branch
DESCRIPTION:[vc_row type=”in_container” full_screen_row_position=”middle” column_margin=”default” column_direction=”default” column_direction_tablet=”default” column_direction_phone=”default” scene_position=”center” text_color=”dark” text_align=”left” row_border_radius=”none” row_border_radius_applies=”bg” overflow=”visible” overlay_strength=”0.3″ gradient_direction=”left_to_right” shape_divider_position=”bottom” bg_image_animation=”none”][vc_column column_padding=”no-extra-padding” column_padding_tablet=”inherit” column_padding_phone=”inherit” column_padding_position=”all” column_element_direction_desktop=”default” column_element_spacing=”default” desktop_text_alignment=”default” tablet_text_alignment=”default” phone_text_alignment=”default” background_color_opacity=”1″ background_hover_color_opacity=”1″ column_backdrop_filter=”none” column_shadow=”none” column_border_radius=”none” column_link_target=”_self” column_position=”default” gradient_direction=”left_to_right” overlay_strength=”0.3″ width=”1/1″ tablet_width_inherit=”default” animation_type=”default” bg_image_animation=”none” border_type=”simple” column_border_width=”none” column_border_style=”solid”][vc_row_inner column_margin=”default” column_direction=”default” column_direction_tablet=”default” column_direction_phone=”default” text_align=”left” row_position=”default” row_position_tablet=”inherit” row_position_phone=”inherit” overflow=”visible” pointer_events=”all”][vc_column_inner column_padding=”no-extra-padding” column_padding_tablet=”inherit” column_padding_phone=”inherit” column_padding_position=”all” column_element_direction_desktop=”default” column_element_spacing=”default” desktop_text_alignment=”default” tablet_text_alignment=”default” phone_text_alignment=”default” background_color_opacity=”1″ background_hover_color_opacity=”1″ column_backdrop_filter=”none” column_shadow=”none” column_border_radius=”none” column_link_target=”_self” overflow=”visible” gradient_direction=”left_to_right” overlay_strength=”0.3″ width=”1/1″ tablet_width_inherit=”default” animation_type=”default” bg_image_animation=”none” border_type=”simple” column_border_width=”none” column_border_style=”solid”][vc_column_text css=”” text_direction=”default”]MCD’s Library Fridays brings hands-on creativity to branches across San Francisco! MCD partners with the San Francisco Public Library to bring the Mobile MakeArt van to the Bayview\, Bernal Heights\, Excelsior\, Mission Bay\, Mission\, North Beach\, Portola\, Potrero\, Glen Park\, and Visitacion Valley branches.[/vc_column_text][/vc_column_inner][/vc_row_inner][divider line_type=”Full Width Line” line_thickness=”1″ divider_color=”default” custom_height=”50″][vc_row_inner column_margin=”default” column_direction=”default” column_direction_tablet=”default” column_direction_phone=”default” text_align=”left” row_position=”default” row_position_tablet=”inherit” row_position_phone=”inherit” overflow=”visible” pointer_events=”all”][vc_column_inner column_padding=”no-extra-padding” column_padding_tablet=”inherit” column_padding_phone=”inherit” column_padding_position=”all” column_element_direction_desktop=”default” column_element_spacing=”default” desktop_text_alignment=”default” tablet_text_alignment=”default” phone_text_alignment=”default” background_color_opacity=”1″ background_hover_color_opacity=”1″ column_backdrop_filter=”none” column_shadow=”none” column_border_radius=”none” column_link_target=”_self” overflow=”visible” gradient_direction=”left_to_right” overlay_strength=”0.3″ width=”1/1″ tablet_width_inherit=”default” animation_type=”default” bg_image_animation=”none” border_type=”simple” column_border_width=”none” column_border_style=”solid”][vc_column_text css=”” text_direction=”default”]\nPROJECT DESCRIPTION\n[/vc_column_text][vc_column_text css=”” text_direction=”default”]CIY (Color-it-Yourself) Rugs\nColoring pages help develop fine motor skills\, build focus\, and foster creativity. Reap the benefits of this classic art activity as you transform rug outlines into personalized masterpieces. Choose from various designs\, including one inspired by Oksana Levchenya’s Pac-Man and Cossacks featured in the exhibition.[/vc_column_text][/vc_column_inner][/vc_row_inner][vc_row_inner column_margin=”default” column_direction=”default” column_direction_tablet=”default” column_direction_phone=”default” text_align=”left” row_position=”default” row_position_tablet=”inherit” row_position_phone=”inherit” overflow=”visible” pointer_events=”all”][vc_column_inner column_padding=”no-extra-padding” column_padding_tablet=”inherit” column_padding_phone=”inherit” column_padding_position=”all” column_element_direction_desktop=”default” column_element_spacing=”default” desktop_text_alignment=”default” tablet_text_alignment=”default” phone_text_alignment=”default” background_color_opacity=”1″ background_hover_color_opacity=”1″ column_backdrop_filter=”none” column_shadow=”none” column_border_radius=”none” column_link_target=”_self” overflow=”visible” gradient_direction=”left_to_right” overlay_strength=”0.3″ width=”1/1″ tablet_width_inherit=”default” animation_type=”default” bg_image_animation=”none” border_type=”simple” column_border_width=”none” column_border_style=”solid”][vc_column_text css=”” text_direction=”default”]Become a Library Fridays regular. Connect creatively as you make exhibition-inspired art and pick up a FREE museum ticket and take-home art project. \n[/vc_column_text][divider line_type=”Full Width Line” line_thickness=”1″ divider_color=”default” custom_height=”50″][/vc_column_inner][/vc_row_inner][vc_row_inner column_margin=”default” column_direction=”default” column_direction_tablet=”default” column_direction_phone=”default” text_align=”left” row_position=”default” row_position_tablet=”inherit” row_position_phone=”inherit” overflow=”visible” pointer_events=”all”][vc_column_inner column_padding=”no-extra-padding” column_padding_tablet=”inherit” column_padding_phone=”inherit” column_padding_position=”all” column_element_direction_desktop=”default” column_element_spacing=”default” desktop_text_alignment=”default” tablet_text_alignment=”default” phone_text_alignment=”default” background_color_opacity=”1″ background_hover_color_opacity=”1″ column_backdrop_filter=”none” column_shadow=”none” column_border_radius=”none” column_link_target=”_self” overflow=”visible” gradient_direction=”left_to_right” overlay_strength=”0.3″ width=”1/1″ tablet_width_inherit=”default” animation_type=”default” bg_image_animation=”none” border_type=”simple” column_border_width=”none” column_border_style=”solid”][vc_column_text css=”” text_direction=”default”]\nFunding for the Museum of Craft and Design’s MakeArt programs is provided by the special interest license plate featuring the image of Snoopy\, with permission and support from Peanuts Worldwide (Section 5169 of the Vehicle Code) for the Museum Grant Program under the California Cultural and Historical Endowment. Additional support for MakeArt is made possible in part by the Institute of Museum and Library Services.\n\nThe views\, findings\, conclusions\, or recommendations expressed in MCD’s programs do not necessarily represent those of the Institute of Museum and Library Services.\n[/vc_column_text][/vc_column_inner][/vc_row_inner][/vc_column][/vc_row]
URL:https://sfmcd.org/event-listing/library-makeart-potrero-branch-may/
LOCATION:San Francisco Public Library – Potrero Branch\, 1616 20th St\, San Francisco\, CA\, 94107\, United States
CATEGORIES:Library MakeArt,MakeArt Events,Volunteers
ATTACH;FMTTYPE=image/png:https://sfmcd.org/wp-content/uploads/2024/10/Event-Library-Friday-12.8.png
END:VEVENT
BEGIN:VEVENT
DTSTART;TZID=America/Los_Angeles:20250429T150000
DTEND;TZID=America/Los_Angeles:20250429T170000
DTSTAMP:20260421T024541
CREATED:20250320T232851Z
LAST-MODIFIED:20250416T203502Z
UID:33719-1745938800-1745946000@sfmcd.org
SUMMARY:Library MakeArt – Bernal Heights Branch
DESCRIPTION:MCD’s Library Fridays brings hands-on creativity to branches across San Francisco! MCD partners with the San Francisco Public Library to bring the Mobile MakeArt van to the Bayview\, Bernal Heights\, Excelsior\, Mission Bay\, Mission\, North Beach\, Portola\, Potrero\, Glen Park\, and Visitacion Valley branches. \nBecome a Library Fridays regular. Connect creatively as you make exhibition-inspired art and pick up a FREE museum ticket and take-home art project. \n \n\n\n\n\nFunding for the Museum of Craft and Design’s MakeArt programs is provided by the special interest license plate featuring the image of Snoopy\, with permission and support from Peanuts Worldwide (Section 5169 of the Vehicle Code) for the Museum Grant Program under the California Cultural and Historical Endowment. Additional support for MakeArt is made possible in part by the Institute of Museum and Library Services.\n\nThe views\, findings\, conclusions\, or recommendations expressed in MCD’s programs do not necessarily represent those of the Institute of Museum and Library Services.
URL:https://sfmcd.org/event-listing/mobile-makeart-library-fridays-bernal-heights-branch-april-4/
LOCATION:Bernal Heights Branch Library\, Cortland Avenue\, San Francisco\, CA\, 94110\, United States
CATEGORIES:Library MakeArt,MakeArt Events,Mobile MakeArt,Volunteers
ATTACH;FMTTYPE=image/png:https://sfmcd.org/wp-content/uploads/2024/10/Event-Library-Friday-11.8.png
END:VEVENT
BEGIN:VEVENT
DTSTART;TZID=America/Los_Angeles:20250427T090000
DTEND;TZID=America/Los_Angeles:20250427T130000
DTSTAMP:20260421T024541
CREATED:20250402T165507Z
LAST-MODIFIED:20250402T165650Z
UID:33758-1745744400-1745758800@sfmcd.org
SUMMARY:Mobile MakeArt: Stonestown Farmers Market
DESCRIPTION:[vc_row type=”in_container” full_screen_row_position=”middle” column_margin=”default” column_direction=”default” column_direction_tablet=”default” column_direction_phone=”default” scene_position=”center” text_color=”dark” text_align=”left” row_border_radius=”none” row_border_radius_applies=”bg” overflow=”visible” overlay_strength=”0.3″ gradient_direction=”left_to_right” shape_divider_position=”bottom” bg_image_animation=”none”][vc_column column_padding=”no-extra-padding” column_padding_tablet=”inherit” column_padding_phone=”inherit” column_padding_position=”all” column_element_direction_desktop=”default” column_element_spacing=”default” desktop_text_alignment=”default” tablet_text_alignment=”default” phone_text_alignment=”default” background_color_opacity=”1″ background_hover_color_opacity=”1″ column_backdrop_filter=”none” column_shadow=”none” column_border_radius=”none” column_link_target=”_self” column_position=”default” gradient_direction=”left_to_right” overlay_strength=”0.3″ width=”1/1″ tablet_width_inherit=”default” animation_type=”default” bg_image_animation=”none” border_type=”simple” column_border_width=”none” column_border_style=”solid”][vc_column_text]MCD has partnered with the Agricultural Institute of Marin (AIM) to bring exhibition-inspired projects to the Stonestown Farmers Market. \nSaunter through the market and look for MCD’s Mobile MakeArt van amongst the stalls! Experience FREE in-person activities for all ages\, take-home MakeArt Kits\, and grab FREE passes to visit the museum in Dogpatch. \nThis is a free event for all ages. \n  \n[/vc_column_text][/vc_column][/vc_row]
URL:https://sfmcd.org/event-listing/mobile-makeart-stonestown-farmers-market-april-27-2025/
LOCATION:Stonestown Farmers Market\, Buckingham Way\, San Francisco\, California\, 94132\, United States
CATEGORIES:MakeArt Events,Mobile MakeArt,Volunteers
ATTACH;FMTTYPE=image/png:https://sfmcd.org/wp-content/uploads/2025/04/Stonestown.png
END:VEVENT
BEGIN:VEVENT
DTSTART;TZID=America/Los_Angeles:20250420T120000
DTEND;TZID=America/Los_Angeles:20250420T160000
DTSTAMP:20260421T024541
CREATED:20250416T202311Z
LAST-MODIFIED:20250416T202311Z
UID:33852-1745150400-1745164800@sfmcd.org
SUMMARY:Mobile MakeArt Tessellating Textures: Block Printing at SF Art Fair
DESCRIPTION:Join the Museum of Craft and Design’s Mobile MakeArt for hands-on creativity during SF Art Fair! Inspired by the ancient art of rug making and the intricate patterns featured in Ruglife artworks\, participants are invited to make stamps and transform simple shapes into tessellating designs. Learn about the historical symbols common in rugs and bring home a custom-stamped patch. \nProjects FREE with Art Market attendance | All ages
URL:https://sfmcd.org/event-listing/mobile-makeart-tessellating-textures-block-printing-at-sf-art-fair/
CATEGORIES:Mobile MakeArt
ATTACH;FMTTYPE=image/png:https://sfmcd.org/wp-content/uploads/2025/04/SFAF24-5.png
END:VEVENT
BEGIN:VEVENT
DTSTART;VALUE=DATE:20250419
DTEND;VALUE=DATE:20250421
DTSTAMP:20260421T024541
CREATED:20250409T194855Z
LAST-MODIFIED:20250409T215909Z
UID:33826-1745020800-1745193599@sfmcd.org
SUMMARY:"RugLife" Closing Weekend Celebration!
DESCRIPTION:[vc_row type=”in_container” full_screen_row_position=”middle” column_margin=”default” column_direction=”default” column_direction_tablet=”default” column_direction_phone=”default” scene_position=”center” text_color=”dark” text_align=”left” row_border_radius=”none” row_border_radius_applies=”bg” overflow=”visible” overlay_strength=”0.3″ gradient_direction=”left_to_right” shape_divider_position=”bottom” bg_image_animation=”none”][vc_column column_padding=”no-extra-padding” column_padding_tablet=”inherit” column_padding_phone=”inherit” column_padding_position=”all” column_element_direction_desktop=”default” column_element_spacing=”default” desktop_text_alignment=”default” tablet_text_alignment=”default” phone_text_alignment=”default” background_color_opacity=”1″ background_hover_color_opacity=”1″ column_backdrop_filter=”none” column_shadow=”none” column_border_radius=”none” column_link_target=”_self” column_position=”default” gradient_direction=”left_to_right” overlay_strength=”0.3″ width=”1/1″ tablet_width_inherit=”default” animation_type=”default” bg_image_animation=”none” border_type=”simple” column_border_width=”none” column_border_style=”solid”][vc_column_text css=”” text_direction=”default”]\nSee for yourself what everyone is talking about!\n[/vc_column_text][vc_row_inner column_margin=”default” column_direction=”default” column_direction_tablet=”default” column_direction_phone=”default” text_align=”left” row_position=”default” row_position_tablet=”inherit” row_position_phone=”inherit” overflow=”visible” pointer_events=”all”][vc_column_inner column_padding=”no-extra-padding” column_padding_tablet=”inherit” column_padding_phone=”inherit” column_padding_position=”all” column_element_direction_desktop=”default” column_element_spacing=”default” desktop_text_alignment=”default” tablet_text_alignment=”default” phone_text_alignment=”default” background_color_opacity=”1″ background_hover_color_opacity=”1″ column_backdrop_filter=”none” column_shadow=”none” column_border_radius=”none” column_link_target=”_self” overflow=”visible” gradient_direction=”left_to_right” overlay_strength=”0.3″ width=”1/1″ tablet_width_inherit=”default” animation_type=”default” bg_image_animation=”none” border_type=”simple” column_border_width=”none” column_border_style=”solid”][vc_column_text css=”” text_direction=”default”]Catch it before it closes! On view through April 20\, RugLife explores the work of contemporary artists from around the globe who transform the rug into a powerful medium to tackle pressing cultural issues like religion\, technology\, social justice\, housing\, and the environment. There’s no better time to experience the textural and visually striking pieces by Ai Weiwei\, Liselot Cobelen\, Nicholas Galanin\, Johannah Herr\, and many more. \nIn celebration of its closing weekend\, visitors can take $2 off admission tickets for April 19-20 with code RUGLIFE. Whether it’s your first visit or you’re returning to see your favorite pieces one more time\, make sure you don’t miss RugLife before it closes![/vc_column_text][/vc_column_inner][/vc_row_inner][divider line_type=”Full Width Line” line_thickness=”1″ divider_color=”default” custom_height=”50″][vc_row_inner column_margin=”default” column_direction=”default” column_direction_tablet=”default” column_direction_phone=”default” text_align=”left” row_position=”default” row_position_tablet=”inherit” row_position_phone=”inherit” overflow=”visible” pointer_events=”all”][vc_column_inner column_padding=”no-extra-padding” column_padding_tablet=”inherit” column_padding_phone=”inherit” column_padding_position=”all” column_element_direction_desktop=”default” column_element_spacing=”default” desktop_text_alignment=”default” tablet_text_alignment=”default” phone_text_alignment=”default” background_color_opacity=”1″ background_hover_color_opacity=”1″ column_backdrop_filter=”none” column_shadow=”none” column_border_radius=”none” column_link_target=”_self” overflow=”visible” gradient_direction=”left_to_right” overlay_strength=”0.3″ width=”1/1″ tablet_width_inherit=”default” animation_type=”default” bg_image_animation=”none” border_type=”simple” column_border_width=”none” column_border_style=”solid”][vc_column_text]\nMCD MEMBERS\n[/vc_column_text][vc_column_text css=”” text_direction=”default”]Make the most of your MCD Membership. The RugLife closing weekend celebration is FREE for Members. Don’t forget to stop by the Museum Store on your way out and get your 10% off discount! \nNot an MCD Member? Join today and get free and discounted tickets to MCD’s signature programs\, events\, tours\, and more![/vc_column_text][/vc_column_inner][/vc_row_inner][divider line_type=”Full Width Line” line_thickness=”1″ divider_color=”default” custom_height=”50″][/vc_column][/vc_row]
URL:https://sfmcd.org/event-listing/ruglife-closing-weekend/
LOCATION:Museum of Craft and Design\, 2569 3rd St\, San Francisco\, CA\, 94107\, United States
CATEGORIES:Featured
ATTACH;FMTTYPE=image/png:https://sfmcd.org/wp-content/uploads/2025/04/Closing-Weekend-Banner-12.13.24-Rug-Life_Dallis-Willard-214-Enhanced-NR.png
END:VEVENT
END:VCALENDAR